BEGIN:VCALENDAR
PRODID:-//PUBBLE//agenda//NL
VERSION:2.0
METHOD:PUBLISH
BEGIN:VEVENT
DTSTART:20240425T163000Z
DTEND:20240424T230000Z
DTSTAMP:20260424T091716Z
UID:8de8640d-11fe-421b-ad4f-32f222702bd8
CREATED:20260424T091716Z
NAME:Fietsen langs Landgoed Sandenburg en bezoek stamboerderij Gerrit Achterberg (1905-1962) nieuwsbladdekaap.nl
X-WR-CALNAME:Fietsen langs Landgoed Sandenburg en bezoek stamboerderij Gerrit Achterberg (1905-1962)
X-ALT-DESC;FMTTYPE=text/html:<a href='/agenda/2024/4/25/fietsen-langs-landgoed-sandenburg-en-bezoek-stamboerderij-gerrit-achterberg-1905-1962--996206'>/agenda/2024/4/25/fietsen-langs-landgoed-sandenburg-en-bezoek-stamboerderij-gerrit-achterberg-1905-1962--996206</a> || <p>Het <em>Langbroekerweteringgebied</em> is uniek door de ligging tussen ‘Rug en Rijn’, de cultuurhistorische ontwikkelingen en ontstaansgeschiedenis. Kenmerkend zijn de grote afwisseling van bosgebieden, houtsingels, weilanden, akkers en waterlopen in combinatie met een grote dichtheid aan landgoederen.&nbsp;</p><p>Je maakt samen met <strong>Klaas Soethout</strong> deze circa <em>10 km lange fietstocht</em> langs het imposante kasteel Sandenburg, waarbij hij je onderweg zal wijzen op de stilte, het groen van de natuur in het gebied en de geschiedenis van het landgoed. Tussendoor maak je nog een uitstapje naar boerderij ‘Het Boompje’ van de familie Achterberg. Dit is de zogeheten <em>stamboerderij&nbsp;</em>van de familie Achterberg van de beroemde dichter Gerrit Achterberg. &nbsp;</p><p>Daar zal <strong>Klaas&nbsp;</strong>een ‘koecollege’ geven. Want hij is oud-dierenarts, auteur van onder meer ‘Een natuur wandel-fietsroute; deel 1: landgoed Sandenburg te Langbroek’ en oprichter &nbsp;van het Weteringgenootschap. Hij was oud-wethouder (tevens jongste van Nederland in 1966) en regelmatig locoburgemeester van de toenmalige gemeente Langbroek. Hij zet zich in voor de natuur in en rond Langbroek en weet veel over de geschiedenis van dit gebied. Daarnaast zet Klaas zich ook al jaren in voor Sahaya, een ontwikkelingsproject in Zuid-India.&nbsp;</p><p>Je ontvangt na inschrijving, voorafgaand aan de fietstocht, een eigen exemplaar van deze wandel-fietsroute om deze alvast door te kunnen nemen.&nbsp;</p><p>NB. Bij slecht weer en/of te ruime belangstelling wordt er naar een (extra) alternatieve datum gezocht.</p><p>Voor meer informatie en aanmelden: <a href="//www.cursusprojectamerongen.nl">www.cursusprojectamerongen.nl</a></p><p><strong>Verzamellocatie</strong></p><p>Wapen van Sandenburg</p><p>Sandenburgerlaan 2</p><p>3941 ME Doorn </p><p><strong>Kosten</strong></p><p>€ 24,50</p>
DESCRIPTION:<a href='/agenda/2024/4/25/fietsen-langs-landgoed-sandenburg-en-bezoek-stamboerderij-gerrit-achterberg-1905-1962--996206'>/agenda/2024/4/25/fietsen-langs-landgoed-sandenburg-en-bezoek-stamboerderij-gerrit-achterberg-1905-1962--996206</a> || <p>Het <em>Langbroekerweteringgebied</em> is uniek door de ligging tussen ‘Rug en Rijn’, de cultuurhistorische ontwikkelingen en ontstaansgeschiedenis. Kenmerkend zijn de grote afwisseling van bosgebieden, houtsingels, weilanden, akkers en waterlopen in combinatie met een grote dichtheid aan landgoederen.&nbsp;</p><p>Je maakt samen met <strong>Klaas Soethout</strong> deze circa <em>10 km lange fietstocht</em> langs het imposante kasteel Sandenburg, waarbij hij je onderweg zal wijzen op de stilte, het groen van de natuur in het gebied en de geschiedenis van het landgoed. Tussendoor maak je nog een uitstapje naar boerderij ‘Het Boompje’ van de familie Achterberg. Dit is de zogeheten <em>stamboerderij&nbsp;</em>van de familie Achterberg van de beroemde dichter Gerrit Achterberg. &nbsp;</p><p>Daar zal <strong>Klaas&nbsp;</strong>een ‘koecollege’ geven. Want hij is oud-dierenarts, auteur van onder meer ‘Een natuur wandel-fietsroute; deel 1: landgoed Sandenburg te Langbroek’ en oprichter &nbsp;van het Weteringgenootschap. Hij was oud-wethouder (tevens jongste van Nederland in 1966) en regelmatig locoburgemeester van de toenmalige gemeente Langbroek. Hij zet zich in voor de natuur in en rond Langbroek en weet veel over de geschiedenis van dit gebied. Daarnaast zet Klaas zich ook al jaren in voor Sahaya, een ontwikkelingsproject in Zuid-India.&nbsp;</p><p>Je ontvangt na inschrijving, voorafgaand aan de fietstocht, een eigen exemplaar van deze wandel-fietsroute om deze alvast door te kunnen nemen.&nbsp;</p><p>NB. Bij slecht weer en/of te ruime belangstelling wordt er naar een (extra) alternatieve datum gezocht.</p><p>Voor meer informatie en aanmelden: <a href="//www.cursusprojectamerongen.nl">www.cursusprojectamerongen.nl</a></p><p><strong>Verzamellocatie</strong></p><p>Wapen van Sandenburg</p><p>Sandenburgerlaan 2</p><p>3941 ME Doorn </p><p><strong>Kosten</strong></p><p>€ 24,50</p>
LAST-MODIFIED:20260424T091716Z
LOCATION: Wapen van Sandenburg | Sandenburgerlaan 2 Doorn
SEQUENCE:0
STATUS:CONFIRMED
SUMMARY:Fietsen langs Landgoed Sandenburg en bezoek stamboerderij Gerrit Achterberg (1905-1962)
TRANSP:OPAQUE
END:VEVENT
END:VCALENDAR
