BEGIN:VCALENDAR
PRODID:-//PUBBLE//agenda//NL
VERSION:2.0
METHOD:PUBLISH
BEGIN:VEVENT
DTSTART:20230518T070000Z
DTEND:20230825T172900Z
DTSTAMP:20260423T141158Z
UID:74bb3156-dd44-4c3d-ad0e-b1386e5a2324
CREATED:20260423T141158Z
NAME:leo van halem exposeert nieuwsbladdekaap.nl
X-WR-CALNAME:leo van halem exposeert
X-ALT-DESC;FMTTYPE=text/html:<a href='/agenda/2023/5/18/leo-van-halem-exposeert-932876'>/agenda/2023/5/18/leo-van-halem-exposeert-932876</a> || <p>Eindelijk weer een expositie van leo van halem, oud docent tekenen, in Doorn.</p><p>Zijn werk is kleurrijk, herkenbaar en zeker niet duur.</p><p>Een mooie gelegenheid om te genieten van zijn landschappen in olie,acryl- en aquarelverf.</p><p>De hal van Park Boswijk is geheel opnieuw opgetrokken en zijn werken harmoniëren buitengewoon goed op de wanden in de tinten bruin en groen.</p><p>Een bezoekje waard!</p>
DESCRIPTION:<a href='/agenda/2023/5/18/leo-van-halem-exposeert-932876'>/agenda/2023/5/18/leo-van-halem-exposeert-932876</a> || <p>Eindelijk weer een expositie van leo van halem, oud docent tekenen, in Doorn.</p><p>Zijn werk is kleurrijk, herkenbaar en zeker niet duur.</p><p>Een mooie gelegenheid om te genieten van zijn landschappen in olie,acryl- en aquarelverf.</p><p>De hal van Park Boswijk is geheel opnieuw opgetrokken en zijn werken harmoniëren buitengewoon goed op de wanden in de tinten bruin en groen.</p><p>Een bezoekje waard!</p>
LAST-MODIFIED:20260423T141158Z
LOCATION: Park Boswijk | Park Boswijk 200 Doorn
SEQUENCE:0
STATUS:CONFIRMED
SUMMARY:leo van halem exposeert
TRANSP:OPAQUE
END:VEVENT
END:VCALENDAR
