BEGIN:VCALENDAR
PRODID:-//PUBBLE//agenda//NL
VERSION:2.0
METHOD:PUBLISH
BEGIN:VEVENT
DTSTART:20251005T110000Z
DTEND:20251005T130000Z
DTSTAMP:20260424T125357Z
UID:22c48e04-026e-43f4-89c5-672c281435c1
CREATED:20260424T125357Z
NAME:Leersum trekt de Rode Lijn door nieuwsbladdekaap.nl
X-WR-CALNAME:Leersum trekt de Rode Lijn door
X-ALT-DESC;FMTTYPE=text/html:<a href='/agenda/2025/10/5/leersum-trekt-de-rode-lijn-door-1208971'>/agenda/2025/10/5/leersum-trekt-de-rode-lijn-door-1208971</a> || <p>Op zondag 5 oktober is er weer een Rode Lijn demonstratie in Amsterdam. Het is een oproep aan onze regering om politieke, economische en diplomatieke maatregelen te nemen om de genocide in Gaza te stoppen en als Nederland niet langer medeplichtig te zijn. Wij willen als Johanneskerk deze Ronde Lijn doortrekken naar Leersum om ook hier ruimte te bieden aan het gevoel van machteloosheid en wanhoop van velen. De Johanneskerk is zondag 5 oktober open van 13.00-15.00 uur om even stil te zijn of een kaarsje aan te steken.</p>
DESCRIPTION:<a href='/agenda/2025/10/5/leersum-trekt-de-rode-lijn-door-1208971'>/agenda/2025/10/5/leersum-trekt-de-rode-lijn-door-1208971</a> || <p>Op zondag 5 oktober is er weer een Rode Lijn demonstratie in Amsterdam. Het is een oproep aan onze regering om politieke, economische en diplomatieke maatregelen te nemen om de genocide in Gaza te stoppen en als Nederland niet langer medeplichtig te zijn. Wij willen als Johanneskerk deze Ronde Lijn doortrekken naar Leersum om ook hier ruimte te bieden aan het gevoel van machteloosheid en wanhoop van velen. De Johanneskerk is zondag 5 oktober open van 13.00-15.00 uur om even stil te zijn of een kaarsje aan te steken.</p>
LAST-MODIFIED:20260424T125357Z
LOCATION: Johanneskerk | Lomboklaan 9 Leersum
SEQUENCE:0
STATUS:CONFIRMED
SUMMARY:Leersum trekt de Rode Lijn door
TRANSP:OPAQUE
END:VEVENT
END:VCALENDAR
