BEGIN:VCALENDAR
PRODID:-//PUBBLE//agenda//NL
VERSION:2.0
METHOD:PUBLISH
BEGIN:VEVENT
DTSTART:20250928T090000Z
DTEND:20251101T092900Z
DTSTAMP:20260421T225858Z
UID:021fd2a2-d72d-4533-b963-928f56c0f385
CREATED:20260421T225858Z
NAME:FAAM: Naar buiten! nieuwsbladdekaap.nl
X-WR-CALNAME:FAAM: Naar buiten!
X-ALT-DESC;FMTTYPE=text/html:<a href='/agenda/2025/9/28/faam-naar-buiten--1204799'>/agenda/2025/9/28/faam-naar-buiten--1204799</a> || <p>Tien jonge Utrechtse makers en onderzoekers zijn voor de expositie Naar buiten!, georganiseerd door FAAM, de geschiedenis van het Utrechtse buitenleven in gedoken. Aan de hand van archiefonderzoek verkennen ze de relatie tussen mens en natuur. Hun wonderlijke vondsten en verhalen vertalen ze naar nieuw werk in de buitenruimtes van het Waterliniemuseum en Kasteel Amerongen. Vanaf 28 september te zien in de Kasteeltuin.</p><p>Meer informatie: www.faamutrecht.com/naar-buiten &nbsp;</p>
DESCRIPTION:<a href='/agenda/2025/9/28/faam-naar-buiten--1204799'>/agenda/2025/9/28/faam-naar-buiten--1204799</a> || <p>Tien jonge Utrechtse makers en onderzoekers zijn voor de expositie Naar buiten!, georganiseerd door FAAM, de geschiedenis van het Utrechtse buitenleven in gedoken. Aan de hand van archiefonderzoek verkennen ze de relatie tussen mens en natuur. Hun wonderlijke vondsten en verhalen vertalen ze naar nieuw werk in de buitenruimtes van het Waterliniemuseum en Kasteel Amerongen. Vanaf 28 september te zien in de Kasteeltuin.</p><p>Meer informatie: www.faamutrecht.com/naar-buiten &nbsp;</p>
LAST-MODIFIED:20260421T225858Z
LOCATION: Kasteel Amerongen | Drostestraat 20 Amerongen
SEQUENCE:0
STATUS:CONFIRMED
SUMMARY:FAAM: Naar buiten!
TRANSP:OPAQUE
END:VEVENT
END:VCALENDAR
