BEGIN:VCALENDAR
PRODID:-//PUBBLE//agenda//NL
VERSION:2.0
METHOD:PUBLISH
BEGIN:VEVENT
DTSTART:20250908T080000Z
DTEND:20250908T100000Z
DTSTAMP:20260426T040634Z
UID:d6819d1c-db00-442c-b780-01b85f51954a
CREATED:20260426T040634Z
NAME:Lezing: De lange weg naar Londen nieuwsbladdekaap.nl
X-WR-CALNAME:Lezing: De lange weg naar Londen
X-ALT-DESC;FMTTYPE=text/html:<a href='/agenda/2025/9/8/lezing-de-lange-weg-naar-londen-1198869'>/agenda/2025/9/8/lezing-de-lange-weg-naar-londen-1198869</a> || <p>Op maandagochtend 8 september kun je een lezing bijwonen tijdens de Zoute Inval in de bibliotheek in Maarn. Tijdens deze lezing neemt Marian Rijk je mee in de reconstructie van de Engelandvaart van Charles Pahud de Mortanges en de totstandkoming van haar boek De lange weg naar Londen.
Een avontuur vol ontberingen, hindernissen en onverwachte ontmoetingen: het spectaculaire relaas van een verzetsheld in de Tweede Wereldoorlog.</p><p>De lezing is gratis bij te wonen. Zin in een lekker kopje koffie of thee met een koekje? Daarvoor vragen we een kleine bijdrage van € 1,00.</p><p><strong>Aanmelden</strong></p><p>De lezing vindt plaats op maandag 8 september van 10.00 tot 12.00 uur in de Bibliotheek Z-O-U-T in Maarn. Graag vooraf aanmelden. Dit kan per e-mail: maarn@bibliotheekzout.nl of aan de balie in de bibliotheek.</p><p><strong>Zoute Inval</strong></p><p>De Bibliotheek Z-O-U-T organiseert regelmatig bijzondere activiteiten, lezingen en workshops onder de naam de Zoute Inval. Deze activiteiten zijn gratis of tegen een kleine vergoeding bij te wonen en ook toegankelijk voor niet-leden. Vooraf aanmelden is gewenst en kan telefonisch, per mail of aan de balie van de betreffende bibliotheekvestiging. Ook is er een wekelijkse koffie-inloop. Het complete programma met de activiteiten van de Zoute Inval is te vinden in de vestigingen en op de website van de Bibliotheek Z-O-U-T: www.bibliotheekzout.nl/zouteinval.</p>
DESCRIPTION:<a href='/agenda/2025/9/8/lezing-de-lange-weg-naar-londen-1198869'>/agenda/2025/9/8/lezing-de-lange-weg-naar-londen-1198869</a> || <p>Op maandagochtend 8 september kun je een lezing bijwonen tijdens de Zoute Inval in de bibliotheek in Maarn. Tijdens deze lezing neemt Marian Rijk je mee in de reconstructie van de Engelandvaart van Charles Pahud de Mortanges en de totstandkoming van haar boek De lange weg naar Londen.
Een avontuur vol ontberingen, hindernissen en onverwachte ontmoetingen: het spectaculaire relaas van een verzetsheld in de Tweede Wereldoorlog.</p><p>De lezing is gratis bij te wonen. Zin in een lekker kopje koffie of thee met een koekje? Daarvoor vragen we een kleine bijdrage van € 1,00.</p><p><strong>Aanmelden</strong></p><p>De lezing vindt plaats op maandag 8 september van 10.00 tot 12.00 uur in de Bibliotheek Z-O-U-T in Maarn. Graag vooraf aanmelden. Dit kan per e-mail: maarn@bibliotheekzout.nl of aan de balie in de bibliotheek.</p><p><strong>Zoute Inval</strong></p><p>De Bibliotheek Z-O-U-T organiseert regelmatig bijzondere activiteiten, lezingen en workshops onder de naam de Zoute Inval. Deze activiteiten zijn gratis of tegen een kleine vergoeding bij te wonen en ook toegankelijk voor niet-leden. Vooraf aanmelden is gewenst en kan telefonisch, per mail of aan de balie van de betreffende bibliotheekvestiging. Ook is er een wekelijkse koffie-inloop. Het complete programma met de activiteiten van de Zoute Inval is te vinden in de vestigingen en op de website van de Bibliotheek Z-O-U-T: www.bibliotheekzout.nl/zouteinval.</p>
LAST-MODIFIED:20260426T040634Z
LOCATION: de Bibliotheek Z-O-U-T | Trompplein 5 Maarn
SEQUENCE:0
STATUS:CONFIRMED
SUMMARY:Lezing: De lange weg naar Londen
TRANSP:OPAQUE
END:VEVENT
END:VCALENDAR
